BEGIN:VCALENDAR
VERSION:2.0
PRODID:-//pretix//pretix.eu//
BEGIN:VTIMEZONE
TZID:Europe/Berlin
BEGIN:STANDARD
DTSTART:20001029T040000
RRULE:FREQ=YEARLY;BYDAY=-1SU;BYMONTH=10
TZNAME:CET
TZOFFSETFROM:+0200
TZOFFSETTO:+0100
END:STANDARD
BEGIN:DAYLIGHT
DTSTART:20000326T030000
RRULE:FREQ=YEARLY;BYDAY=-1SU;BYMONTH=3
TZNAME:CEST
TZOFFSETFROM:+0100
TZOFFSETTO:+0200
END:DAYLIGHT
END:VTIMEZONE
BEGIN:VEVENT
UID:pretix-disruptionlab-shadows-of-illiberalism-0@tickets.disruptionlab.or
 g
DTSTART;TZID=Europe/Berlin:20250613T150000
DTEND;TZID=Europe/Berlin:20250615T160000
DESCRIPTION:Tickets: https://tickets.disruptionlab.org/shadows-of-illiberal
 ism/\nOrganizer: Disruption Network Lab e. V.
DTSTAMP:20260423T224952Z
LOCATION:Studio 1\, Kunstquartier Bethanien\, Mariannenplatz 2\, 10997 Berl
 in.
SUMMARY:Shadows of Illiberalism | Resisting the Radical Right
END:VEVENT
END:VCALENDAR
